BEGIN:VCALENDAR
VERSION:2.0
PRODID:-//The Jazz Passengers - ECPv6.15.20//NONSGML v1.0//EN
CALSCALE:GREGORIAN
METHOD:PUBLISH
X-WR-CALNAME:The Jazz Passengers
X-ORIGINAL-URL:https://jazzpassengers.com
X-WR-CALDESC:Events for The Jazz Passengers
REFRESH-INTERVAL;VALUE=DURATION:PT1H
X-Robots-Tag:noindex
X-PUBLISHED-TTL:PT1H
BEGIN:VTIMEZONE
TZID:UTC
BEGIN:STANDARD
TZOFFSETFROM:+0000
TZOFFSETTO:+0000
TZNAME:UTC
DTSTART:20150101T000000
END:STANDARD
END:VTIMEZONE
BEGIN:VTIMEZONE
TZID:America/New_York
BEGIN:DAYLIGHT
TZOFFSETFROM:-0500
TZOFFSETTO:-0400
TZNAME:EDT
DTSTART:20160313T070000
END:DAYLIGHT
BEGIN:STANDARD
TZOFFSETFROM:-0400
TZOFFSETTO:-0500
TZNAME:EST
DTSTART:20161106T060000
END:STANDARD
BEGIN:DAYLIGHT
TZOFFSETFROM:-0500
TZOFFSETTO:-0400
TZNAME:EDT
DTSTART:20170312T070000
END:DAYLIGHT
BEGIN:STANDARD
TZOFFSETFROM:-0400
TZOFFSETTO:-0500
TZNAME:EST
DTSTART:20171105T060000
END:STANDARD
BEGIN:DAYLIGHT
TZOFFSETFROM:-0500
TZOFFSETTO:-0400
TZNAME:EDT
DTSTART:20180311T070000
END:DAYLIGHT
BEGIN:STANDARD
TZOFFSETFROM:-0400
TZOFFSETTO:-0500
TZNAME:EST
DTSTART:20181104T060000
END:STANDARD
END:VTIMEZONE
BEGIN:VTIMEZONE
TZID:Europe/Paris
BEGIN:DAYLIGHT
TZOFFSETFROM:+0100
TZOFFSETTO:+0200
TZNAME:CEST
DTSTART:20160327T010000
END:DAYLIGHT
BEGIN:STANDARD
TZOFFSETFROM:+0200
TZOFFSETTO:+0100
TZNAME:CET
DTSTART:20161030T010000
END:STANDARD
BEGIN:DAYLIGHT
TZOFFSETFROM:+0100
TZOFFSETTO:+0200
TZNAME:CEST
DTSTART:20170326T010000
END:DAYLIGHT
BEGIN:STANDARD
TZOFFSETFROM:+0200
TZOFFSETTO:+0100
TZNAME:CET
DTSTART:20171029T010000
END:STANDARD
BEGIN:DAYLIGHT
TZOFFSETFROM:+0100
TZOFFSETTO:+0200
TZNAME:CEST
DTSTART:20180325T010000
END:DAYLIGHT
BEGIN:STANDARD
TZOFFSETFROM:+0200
TZOFFSETTO:+0100
TZNAME:CET
DTSTART:20181028T010000
END:STANDARD
END:VTIMEZONE
BEGIN:VEVENT
DTSTART;VALUE=DATE:20180805
DTEND;VALUE=DATE:20180806
DTSTAMP:20260415T122929
CREATED:20180311T200352Z
LAST-MODIFIED:20180311T200707Z
UID:448-1533427200-1533513599@jazzpassengers.com
SUMMARY:Erie Blues & Jazz Festival
DESCRIPTION:The Erie Blues & Jazz Festival returns to Frontier Park in Erie PA on August 3\, 4 & 5 of 2018. For three days and three nights\, the park comes alive with what has proven itself to be the region’s most dynamic musical event; this free community event is held rain or shine. The Erie Blues & Jazz Festival\, attracting more than 20\,000 visitors\, features musicians that range from regional favorites to international super-stars. \nThe Jazz Passengers will appear on August 5\, 2018.  Time TBD
URL:https://jazzpassengers.com/event/erie-blues-jazz-festival/
LOCATION:Erie Blues & Jazz Festival\, Frontier Park\, 1501 W 6th Street\, Erie\, PA\, 16505
CATEGORIES:Shows
ATTACH;FMTTYPE=image/jpeg:https://jazzpassengers.com/wp-content/uploads/2018/03/Erie.jpg
END:VEVENT
BEGIN:VEVENT
DTSTART;VALUE=DATE:20180624
DTEND;VALUE=DATE:20180625
DTSTAMP:20260415T122929
CREATED:20180311T184516Z
LAST-MODIFIED:20180311T185257Z
UID:436-1529798400-1529884799@jazzpassengers.com
SUMMARY:Freihofer's Saratoga Jazz Festival
DESCRIPTION:The Jazz Passengers 30th Anniversary on the Charles R. Wood “Jazz Discovery” Stage \nTime TBD\, Day 2 begins at 11:00 a.m. \nhttps://spac.org/event/freihofers-saratoga-jazz-festival-day-2/ \nhttps://spac.org/experience-spac/directions-parking/
URL:https://jazzpassengers.com/event/freihofers-saratoga-jazz-festival/
LOCATION:Saratoga Performing Arts Center\, Saratoga Performing Arts Center 108 Avenue of the Pines\, Saratoga Springs\, NY\, 12866
CATEGORIES:Shows
ATTACH;FMTTYPE=image/jpeg:https://jazzpassengers.com/wp-content/uploads/2018/03/saratoga-jazzfest_promo.jpg
END:VEVENT
BEGIN:VEVENT
DTSTART;TZID=America/New_York:20170328T200000
DTEND;TZID=America/New_York:20170328T213000
DTSTAMP:20260415T122929
CREATED:20161130T171033Z
LAST-MODIFIED:20170219T193328Z
UID:146-1490731200-1490736600@jazzpassengers.com
SUMMARY:Album Release Celebration - Still Life With Trouble
DESCRIPTION:
URL:https://jazzpassengers.com/event/album-release-celebration-still-life-with-trouble/
LOCATION:Roulette\, 509 Atlantic Avenue\, Brooklyn\, NY\, 11217\, United States
CATEGORIES:Shows
END:VEVENT
BEGIN:VEVENT
DTSTART;TZID=Europe/Paris:20170318T200000
DTEND;TZID=Europe/Paris:20170318T200000
DTSTAMP:20260415T122929
CREATED:20161130T165506Z
LAST-MODIFIED:20161130T172250Z
UID:135-1489867200-1489867200@jazzpassengers.com
SUMMARY:Teatro Victoria Eugenia\, San Sebastian Spain
DESCRIPTION:CD Release Tour \nStill Life With Trouble
URL:https://jazzpassengers.com/event/teatro-victoria-eugenia-san-sebastian-spain/
LOCATION:Teatro Victoria Eugenia\, rgentinar Errepublika\, 2\, 20004\, San Sebastián\, Spain
CATEGORIES:Shows,Tour
END:VEVENT
BEGIN:VEVENT
DTSTART;TZID=Europe/Paris:20170316T200000
DTEND;TZID=Europe/Paris:20170316T220000
DTSTAMP:20260415T122929
CREATED:20161130T164635Z
LAST-MODIFIED:20170124T165234Z
UID:132-1489694400-1489701600@jazzpassengers.com
SUMMARY:Die Tonne im Kurländer Palais - Dresden\, Germany
DESCRIPTION:CD Release Tour \nStill Life With Trouble
URL:https://jazzpassengers.com/event/jazz-club-tonne/
LOCATION:Die Tonne im Kurländer Palais\, Tzschirnerpl. 3-5\, Dresden\, 01067 \, Germany
CATEGORIES:Shows,Tour
END:VEVENT
BEGIN:VEVENT
DTSTART;TZID=Europe/Paris:20170311T140000
DTEND;TZID=Europe/Paris:20170311T170000
DTSTAMP:20260415T122929
CREATED:20161130T162414Z
LAST-MODIFIED:20161227T132810Z
UID:129-1489240800-1489251600@jazzpassengers.com
SUMMARY:Mejeriet - Lund\, Sweden
DESCRIPTION:CD Release Tour \nStill Life With Trouble
URL:https://jazzpassengers.com/event/mejeriet-lund-sweden/
LOCATION:Mejeriet\, Stora Södergatan 64\, 222 23\, Lund\, Sweden
CATEGORIES:Shows,Tour
END:VEVENT
BEGIN:VEVENT
DTSTART;TZID=America/New_York:20170114T200000
DTEND;TZID=America/New_York:20170114T220000
DTSTAMP:20260415T122929
CREATED:20161130T170440Z
LAST-MODIFIED:20161130T172314Z
UID:142-1484424000-1484431200@jazzpassengers.com
SUMMARY:MusicLAB presents - The Jazz Passengers
DESCRIPTION:
URL:https://jazzpassengers.com/event/musiclab-presents-the-jazz-passengers/
LOCATION:Temple Beth El of Northern Valley\, 221 Schraalenburgh Road\, Closter\, NJ\, 07624\, United States
CATEGORIES:Shows
ATTACH;FMTTYPE=image/png:https://jazzpassengers.com/wp-content/uploads/2016/11/MusicLab_Horiz_CMYK-01-e1480525542728.png
END:VEVENT
BEGIN:VEVENT
DTSTART;TZID=UTC:20161222T200000
DTEND;TZID=UTC:20161222T230000
DTSTAMP:20260415T122929
CREATED:20161130T121511Z
LAST-MODIFIED:20161130T172322Z
UID:123-1482436800-1482447600@jazzpassengers.com
SUMMARY:Jazz Passengers at Bar LunÀtico
DESCRIPTION:
URL:https://jazzpassengers.com/event/jazz-passengers-at-bar-lunatico-2/
LOCATION:Bar LunÀtico\, 486 Halsey Street\, Brooklyn\, NY\, 11223\, United States
CATEGORIES:Shows
ATTACH;FMTTYPE=image/jpeg:https://jazzpassengers.com/wp-content/uploads/2016/11/Bar-Lunatico-e1480508099988.jpg
END:VEVENT
BEGIN:VEVENT
DTSTART;TZID=UTC:20161211T160000
DTEND;TZID=UTC:20161211T180000
DTSTAMP:20260415T122929
CREATED:20161130T161103Z
LAST-MODIFIED:20161130T172330Z
UID:120-1481472000-1481479200@jazzpassengers.com
SUMMARY:Roy Nathanson and Sotto Voce - Subway Moon
DESCRIPTION:Roy Nathanson and Sotto Voce perform with Roy’s students from Manhattan’s Institute of Collaborative Education (I.C.E.) and students from Staten Island’s Curtis High School\, under the guidance of their teacher\, Ray Scro.  Featuring video projections by Andrew Gurian.
URL:https://jazzpassengers.com/event/roy-nathanson-and-sotto-voce-subway-moon/
LOCATION:The Music Hall – Snug Harbor Cultural Center & Botanical Gardens\, 1000 Richmond Terrace\, Staten Island\, NY\, 10301\, United States
CATEGORIES:Shows
ATTACH;FMTTYPE=image/jpeg:https://jazzpassengers.com/wp-content/uploads/2016/11/subway-moon-front.jpg
END:VEVENT
BEGIN:VEVENT
DTSTART;TZID=UTC:20161202T200000
DTEND;TZID=UTC:20161202T230000
DTSTAMP:20260415T122929
CREATED:20161127T175430Z
LAST-MODIFIED:20161130T172339Z
UID:33-1480708800-1480719600@jazzpassengers.com
SUMMARY:Jazz Passengers at Bar LunÀtico
DESCRIPTION:
URL:https://jazzpassengers.com/event/jazz-passengers-at-bar-lunatico/
LOCATION:Bar LunÀtico\, 486 Halsey Street\, Brooklyn\, NY\, 11223\, United States
CATEGORIES:Shows
ATTACH;FMTTYPE=image/jpeg:https://jazzpassengers.com/wp-content/uploads/2016/11/Bar-Lunatico-e1480508099988.jpg
ORGANIZER;CN="":MAILTO:dana@jazzpassengers.com
END:VEVENT
END:VCALENDAR